BEGIN:VCALENDAR
VERSION:2.0
PRODID:-//Among Brenda&#039;s Quilts &amp; Bags - ECPv5.14.2.1//NONSGML v1.0//EN
CALSCALE:GREGORIAN
METHOD:PUBLISH
X-WR-CALNAME:Among Brenda&#039;s Quilts &amp; Bags
X-ORIGINAL-URL:https://amongbrendasquilts.com
X-WR-CALDESC:Events for Among Brenda&#039;s Quilts &amp; Bags
REFRESH-INTERVAL;VALUE=DURATION:PT1H
X-Robots-Tag:noindex
X-PUBLISHED-TTL:PT1H
BEGIN:VTIMEZONE
TZID:America/Toronto
BEGIN:DAYLIGHT
TZOFFSETFROM:-0500
TZOFFSETTO:-0400
TZNAME:EDT
DTSTART:20220313T070000
END:DAYLIGHT
BEGIN:STANDARD
TZOFFSETFROM:-0400
TZOFFSETTO:-0500
TZNAME:EST
DTSTART:20221106T060000
END:STANDARD
END:VTIMEZONE
BEGIN:VEVENT
DTSTART;TZID=America/Toronto:20220707T100000
DTEND;TZID=America/Toronto:20220707T130000
DTSTAMP:20220503T115506
CREATED:20220428T135252Z
LAST-MODIFIED:20220501T154052Z
UID:16126-1657188000-1657198800@amongbrendasquilts.com
SUMMARY:Class\, Monthly Open-Sew Mornings with Irene Mischkinis - July 2022
DESCRIPTION:Thursday July 7\, 10am – 1pm \n$40 \nRegistration: Follow the link (under Details below) to purchase a session online OR download the registration form to purchase via phone or in person. \nLocation:  ABQ Sewing Studio\, 15 Centre Street W\, Strathroy\, ON \nOpen sew \nNeed a little assistance to move that sewing project along?  Work on anything from your quilt to your quilted jacket!  Join this group to get some help and expert advice to gain the confidence to move your project along or to finish it.  Bring yourself in along with anything you are stuck on or anything you want to start or just come for the fun of sewing with others!  Irene is here for you during this open sew session held the first Thursday of each month.  Snacks provided. \nFor the class you will need: \n\n      All the bits and pieces that belong to your project\n      Sewing kit**\n\nSewing machine in good working order with appropriate needles for your fabric. \n**Sewing kit \n\nGood quality pins (longer ones with glass heads are the easiest to handle) in a container that allows for easy access or in a pincushion\nSharp cutting shears\nSmall scissors or snips for thread\nMeasuring tape\nSewing gauge or small ruler\nHand-sewing needles\nMarking pencils or chalk that will work with the fabric you are using for your class project\nSeam ripper\n\n 
URL:https://amongbrendasquilts.com/event/class-monthly-open-sew-mornings-with-irene-mischkinis-july-2022/
LOCATION:ABQ Sewing Studio\, 15 Centre Street West\, Strathroy\, Ontario\, N7G 1T5\, Canada
END:VEVENT
BEGIN:VEVENT
DTSTART;TZID=America/Toronto:20220708T140000
DTEND;TZID=America/Toronto:20220708T170000
DTSTAMP:20220503T115506
CREATED:20220425T211913Z
LAST-MODIFIED:20220501T154209Z
UID:16065-1657288800-1657299600@amongbrendasquilts.com
SUMMARY:Class\, La Luna Bag with Brenda Miller\, Class 3 of 3
DESCRIPTION:Friday afternoons:  June 17\, 24th\, July 8th. \n2pm – 5pm \n$80 \nA brand new bag pattern and a very convenient storage system for gals on the go. \n\nremovable shoulder strap\nzippered top\nsecure back pocket and cell phone pocket\noptional zippered or slip pocket inside\nfront angled pockets\nsuitable for intermediate level quilters or sewists\n\nMeasures 11 1/4″H x 15″W x 3 1/2″D \nPattern (ABQ-206)\, zippers\, stabilizers\, interfacing and fabric is available for purchase at the ABQ Sewing Studio prior to class or online at shop.amongbrendasquilts.com \nNote to Students:  All fabric\, stabilizers and interfacing must be cut prior to the first class.  Remember to label each cut piece with the name of the piece (not the size).  Be sure to purchase the stabilizers and interfacings given on the pattern cover for excellent results.  This project is made with quilting cotton. Heavier fabrics will be too thick for good results.
URL:https://amongbrendasquilts.com/event/class-la-luna-bag-with-brenda-miller-class-3-of-3/
LOCATION:ABQ Sewing Studio\, 15 Centre Street West\, Strathroy\, Ontario\, N7G 1T5\, Canada
END:VEVENT
BEGIN:VEVENT
DTSTART;TZID=America/Toronto:20220709T100000
DTEND;TZID=America/Toronto:20220709T130000
DTSTAMP:20220503T115506
CREATED:20220426T164010Z
LAST-MODIFIED:20220427T202214Z
UID:16101-1657360800-1657371600@amongbrendasquilts.com
SUMMARY:Class\, Beginner's Quilting Square Dance Quilt with Kelley Richardson (3 of 3)
DESCRIPTION:3 sessions – Saturdays\, June 11\, 25 and July 9. \n10am – 1 pm \n$100 (includes Start Quilting Book by Alex Anderson upon registration) \nMake the Square Dance Quilt and learn all the basics of quilt making.  Kelley will guide you through learning to plan\, cut and piece your colorful quilt top.   Measures 40 1/2″W x 46 1/2″L \nTools required: \n\nRotary cutter\nRotary mat (some available in classroom)\nRotary Ruler (6 1/2″ x 24″ and 6 1/2″ square)\nScissors\, Pins\, Thread to match\, Seam Ripper\nSewing Machine in good working order\nFabric should be picked out prior to class\nMarking tools\n\nPlease refrain from wearing perfumed products during class.
URL:https://amongbrendasquilts.com/event/class-beginners-quilting-square-dance-quilt-with-kelley-richardson-3-of-3/
LOCATION:ABQ Sewing Studio\, 15 Centre Street West\, Strathroy\, Ontario\, N7G 1T5\, Canada
END:VEVENT
END:VCALENDAR