BEGIN:VCALENDAR
VERSION:2.0
PRODID:-//Among Brenda&#039;s Quilts &amp; Bags - ECPv5.14.2.1//NONSGML v1.0//EN
CALSCALE:GREGORIAN
METHOD:PUBLISH
X-WR-CALNAME:Among Brenda&#039;s Quilts &amp; Bags
X-ORIGINAL-URL:https://amongbrendasquilts.com
X-WR-CALDESC:Events for Among Brenda&#039;s Quilts &amp; Bags
REFRESH-INTERVAL;VALUE=DURATION:PT1H
X-Robots-Tag:noindex
X-PUBLISHED-TTL:PT1H
BEGIN:VTIMEZONE
TZID:America/Toronto
BEGIN:DAYLIGHT
TZOFFSETFROM:-0500
TZOFFSETTO:-0400
TZNAME:EDT
DTSTART:20220313T070000
END:DAYLIGHT
BEGIN:STANDARD
TZOFFSETFROM:-0400
TZOFFSETTO:-0500
TZNAME:EST
DTSTART:20221106T060000
END:STANDARD
END:VTIMEZONE
BEGIN:VEVENT
DTSTART;TZID=America/Toronto:20220526T100000
DTEND;TZID=America/Toronto:20220526T130000
DTSTAMP:20220503T034850
CREATED:20220428T132613Z
LAST-MODIFIED:20220501T150336Z
UID:16122-1653559200-1653570000@amongbrendasquilts.com
SUMMARY:Class\, The Perfect T-Shirt with Irene Mischkinis
DESCRIPTION:Thursday\, May 26\, 10am – 1pm \n$50 \nLocation:  ABQ Sewing Studio\, 15 Centre St. W.\, Strathroy\, Ontario \nRegistration: Follow the link (under Details below) to purchase this class online OR download the registration form to purchase via phone or in person. \nSupplies required available at the ABQ Sewing Studio \nThe name of the pattern says it all – the Perfect T-shirt.  You will learn to fit the pattern to suit your figure and learn how to finish the neckline and hems to give you a t-shirt that will rival any designer t-shirt. For the class you will need: \n\nPamela’s Patterns Perfect T-shirt\nFabric as per pattern*\nThread to match your fabric\nStretch needle 75/11 for your sewing machine\nStretch twin needle for your sewing machine to do hems – if you’re not sure which width to buy\, wait until class and we’ll select the appropriate width for your fabric\nSewing kit**\nSewing machine in good working order\n\n*Fabric should be pretreated (washed and dried in the manner that you will be treating the finished garment) \nN.B.  Please wear a camisole or some other close-fitting garment to class – fitting a t-shirt over bulky clothing just doesn’t work. \nN.B. The t-shirt pattern can be stitched up entirely on the sewing machine.  We ask that you bring your sewing machine\, as well as your serger (if you have one). \n  \n**Sewing kit \n\nGood quality pins (longer ones with glass heads are the easiest to handle) in a container that allows for easy access or in a pincushion\nSharp cutting shears\nSmall scissors or snips for thread\nMeasuring tape\nSewing gauge or small ruler\nHand-sewing needles\nMarking pencils or chalk that will work with the fabric you are using for your class project\nSeam ripper
URL:https://amongbrendasquilts.com/event/class-the-perfect-t-shirt-with-irene-mischkinis/
LOCATION:ABQ Sewing Studio\, 15 Centre Street West\, Strathroy\, Ontario\, N7G 1T5\, Canada
END:VEVENT
BEGIN:VEVENT
DTSTART;TZID=America/Toronto:20220526T140000
DTEND;TZID=America/Toronto:20220526T170000
DTSTAMP:20220503T034850
CREATED:20220428T132944Z
LAST-MODIFIED:20220501T150417Z
UID:16123-1653573600-1653584400@amongbrendasquilts.com
SUMMARY:Class\, Variations to Change Up Your Basic T-Shirt with Irene Mischkinis
DESCRIPTION:  \n   \nThursday\, May 26\, 2pm – 5pm \n$50 \nLocation:  ABQ Sewing Studio\, 15 Centre St. W.\, Strathroy\, Ontario \nRegistration: Follow the link (under Details below) to purchase this class online OR download the registration form to purchase via phone or in person. \nSupplies available at the ABQ Sewing Studio \nYou’ve perfected your t-shirt fit and now you want to really make it your own – perhaps by turning it into a dress or tunic\, or by adding an interesting neckline finish.  In this class\, you’re the designer. \nFor the class you will need: \n\nPamela’s Patterns Perfect T-shirt\nA roll of thin vellum paper to draft your pattern changes\nFabric as per pattern or more\, depending on what you plan to make*\nThread to match your fabric\nStretch needle 75/11 for your sewing machine\nStretch twin needle for your sewing machine to do hems – if you’re not sure which width to buy\, wait until class and we’ll select the appropriate width for your fabric\nSewing kit**\nSewing machine in good working order\n\n  \n*Fabric should be pretreated (washed and dried in the manner that you will be treating the finished garment) \nN.B.  Please wear a camisole or some other close-fitting garment to class – fitting a t-shirt over bulky clothing just doesn’t work. \nN.B. The t-shirt pattern can be stitched up entirely on the sewing machine.  We ask that you bring your sewing machine\, as well as your serger (if you have one). \n**Sewing kit \n\nGood quality pins (longer ones with glass heads are the easiest to handle) in a container that allows for easy access or in a pincushion\nSharp cutting shears\nSmall scissors or snips for thread\nMeasuring tape\nSewing gauge or small ruler\nHand-sewing needles\nMarking pencils or chalk that will work with the fabric you are using for your class project\nSeam ripper
URL:https://amongbrendasquilts.com/event/class-variations-to-change-up-your-basic-t-shirt-with-irene-mischkinis/
LOCATION:ABQ Sewing Studio\, 15 Centre Street West\, Strathroy\, Ontario\, N7G 1T5\, Canada
END:VEVENT
BEGIN:VEVENT
DTSTART;TZID=America/Toronto:20220527T100000
DTEND;TZID=America/Toronto:20220527T130000
DTSTAMP:20220503T034850
CREATED:20220428T191249Z
LAST-MODIFIED:20220501T150515Z
UID:16124-1653645600-1653656400@amongbrendasquilts.com
SUMMARY:Class\, Cool Draped Front Cardigan with Irene Mischkinis
DESCRIPTION:Friday\, May 27\, 10am – 1pm \n$50 \nLocation:  ABQ Sewing Studio\, 15 Centre Street W.\, Strathroy\, Ontario \nRegistration: Follow the link (under Details below) to purchase this class online OR download the registration form to purchase via phone or in person. \nSupplies available at the ABQ Sewing Studio \nCool Cardigans – Draped Front \nThis really is the perfect topper to throw on over any outfit.  A light weight knit for summer – a heavier weight knit for winter.   Get the fit right and you’ll want one in every colour for your wardrobe. \nFor the class you will need: \n\nPamela’s Patterns Cool Cardigans – Draped Front\nFabric as per pattern\nThread to match your fabric\nStretch needle 75/11 for your sewing machine\nSewing kit**\nSewing machine in good working order\n\n  \n*Fabric should be pretreated (washed and dried in the manner that you will be treating the finished garment) \nN.B.  Please wear a camisole or some other close-fitting garment to class – fitting a cardigan over bulky clothing just doesn’t work. \nN.B. The cardigan pattern can be stitched up entirely on the sewing machine.  We ask that you bring your sewing machine\, as well as your serger (if you have one). \n**Sewing kit \n\nGood quality pins (longer ones with glass heads are the easiest to handle) in a container that allows for easy access or in a pincushion\nSharp cutting shears\nSmall scissors or snips for thread\nMeasuring tape\nSewing gauge or small ruler\nHand-sewing needles\nMarking pencils or chalk that will work with the fabric you are using for your class project\nSeam ripper\n\n 
URL:https://amongbrendasquilts.com/event/class-cool-draped-front-cardigan-with-irene-mischkinis/
LOCATION:ABQ Sewing Studio\, 15 Centre Street West\, Strathroy\, Ontario\, N7G 1T5\, Canada
END:VEVENT
BEGIN:VEVENT
DTSTART;TZID=America/Toronto:20220527T140000
DTEND;TZID=America/Toronto:20220527T170000
DTSTAMP:20220503T034850
CREATED:20220425T205730Z
LAST-MODIFIED:20220501T150649Z
UID:16055-1653660000-1653670800@amongbrendasquilts.com
SUMMARY:Class\, Daytripper Backpack with Brenda Miller\, Class 1 of 3
DESCRIPTION:  \nFriday Afternoons:  May 27\, June 3 and 10th \n2pm – 5pm \n$80 \nRegistration: Follow the link (under Details below) to purchase this class online OR download the registration form to purchase via phone or in person. \nWith an assortment of handy pocket for your devices\, phone\, pens\, papers\, etc.  Loads of room inside for even your bulky items.  Padded Tech Pocket holds up to an 11″H x 10 1/2″W device. This size suits all ages.  Suitable for intermediate level quilters or sewists.  You’ll learn lots of techniques in this class.  \nMeasures 13 1/2″H x 12 1/2″W x 3 1/2″D  \nPattern (ABQ-189)\, zippers\, stabilizers\, interfacing and fabric is available for purchase at the ABQ Sewing Studio prior to class or online at shop.amongbrendasquilts.com   \nNote to Students:  All fabric\, stabilizers and interfacing must be cut prior to the first class.  Remember to label each cut piece with the name of the piece (not the size).  Be sure to purchase the stabilizers and interfacings given on the pattern cover for excellent results.  This project is made with quilting cotton.  Heavier fabrics will be too thick for good results. 
URL:https://amongbrendasquilts.com/event/class-daytripper-backpack-with-brenda-miller-class-1-of-3/
LOCATION:ABQ Sewing Studio\, 15 Centre Street West\, Strathroy\, Ontario\, N7G 1T5\, Canada
END:VEVENT
BEGIN:VEVENT
DTSTART;TZID=America/Toronto:20220528T103000
DTEND;TZID=America/Toronto:20220528T153000
DTSTAMP:20220503T034850
CREATED:20220426T153513Z
LAST-MODIFIED:20220501T150920Z
UID:16086-1653733800-1653751800@amongbrendasquilts.com
SUMMARY:Class\, Learn Free Motion Quilting with Kelley Richardson
DESCRIPTION:Saturday\, May 28\, 10:30 am – 3:30pm \n$75.00 \nLocation:  ABQ Sewing Studio\, 15 Centre St. W.\, Strathroy\, Ontario \nRegistration: Follow the link (under Details below) to purchase this class online OR download the registration form to purchase via phone or in person. \nThis class is an exciting journey.. \nFor the class you will need: \n\nA sewing machine in good working order\nEither the ability to drop the feed dogs on your machine or a cover to cover them up.\nNeutral thread (it’s a good idea to have a few bobbins wound in advance)\nQuilting needle 90/14 for your machine\nScissors\, seam ripper\nFree motion quilting foot\nClear plastic ruler\nBlue washout marker or similar erasable marker\n3 quilt sandwiches approx. 24” square from muslin or 100% cotton solid or tone on tone fabric ***pattered fabric is not suitable for this as it makes it difficult to evaluate your stitches.  To make a quilt sandwich\, cut 24″ squares of your top fabric\, backing and batting and baste them together prior to class.\n\n\n\nNice to have for all sessions: \n\n\n\nQuilting gloves\nExtension Table for your machine\n\nMinimum of 4 students required to run this class.
URL:https://amongbrendasquilts.com/event/class-learn-free-motion-quilting-with-kelley-richardson/
LOCATION:ABQ Sewing Studio\, 15 Centre Street West\, Strathroy\, Ontario\, N7G 1T5\, Canada
END:VEVENT
END:VCALENDAR