BEGIN:VCALENDAR
VERSION:2.0
PRODID:-//Among Brenda&#039;s Quilts &amp; Bags - ECPv5.14.2.1//NONSGML v1.0//EN
CALSCALE:GREGORIAN
METHOD:PUBLISH
X-WR-CALNAME:Among Brenda&#039;s Quilts &amp; Bags
X-ORIGINAL-URL:https://amongbrendasquilts.com
X-WR-CALDESC:Events for Among Brenda&#039;s Quilts &amp; Bags
REFRESH-INTERVAL;VALUE=DURATION:PT1H
X-Robots-Tag:noindex
X-PUBLISHED-TTL:PT1H
BEGIN:VTIMEZONE
TZID:America/Toronto
BEGIN:DAYLIGHT
TZOFFSETFROM:-0500
TZOFFSETTO:-0400
TZNAME:EDT
DTSTART:20220313T070000
END:DAYLIGHT
BEGIN:STANDARD
TZOFFSETFROM:-0400
TZOFFSETTO:-0500
TZNAME:EST
DTSTART:20221106T060000
END:STANDARD
END:VTIMEZONE
BEGIN:VEVENT
DTSTART;TZID=America/Toronto:20220630T100000
DTEND;TZID=America/Toronto:20220630T130000
DTSTAMP:20220503T115527
CREATED:20220428T190803Z
LAST-MODIFIED:20220430T153327Z
UID:16170-1656583200-1656594000@amongbrendasquilts.com
SUMMARY:Class\, Tamarack Jacket with Irene Mischkinis (2 of 2)
DESCRIPTION:Thursday June 23\, 30 10am – 1pm \n$80 \nLocation:  ABQ Sewing Studio\, 15 Centre Street W.\, Strathroy\, Ontario \nA warm and stylish quilted coat perfect for layering.  Follow one of the two quilting designs included\, or create your own.  With an inner layer of batting and roomy welt pockets. \nSupplies available at the ABQ Sewing Studio \nTamarack Jacket \nA warm and stylish quilted jacket\, perfect for spring and fall layering.  Learn basic quilting\, inserting a welt pocket and applying bias binding. \nFor the class you will need: \n\n            Grainline Studio Tamarack Jacket pattern\n            Fabric as per pattern\n            Batting as per pattern\n            Thread\n            ½ inch double-folded bias tape or ½ metre extra fabric to make your own\n            Fusible interfacing\n            Coat hooks and eyes or heavy duty snaps\n            Sewing machine in good working order\n            Sewing kit**\n\n**Sewing Kit \n\nGood quality pins (longer ones with glass heads are the easiest to handle) in a container that allows for easy access or in a pincushion\nSharp cutting shears\nSmall scissors or snips for thread\nMeasuring tape\nSewing gauge or small ruler\nHand-sewing needles\nMarking pencils or chalk that will work with the fabric you are using for your class project\nSeam ripper\n\nImage from Grainline Studio
URL:https://amongbrendasquilts.com/event/class-tamarack-jacket-with-irene-mischkinis-2-of-2/
LOCATION:ABQ Sewing Studio\, 15 Centre Street West\, Strathroy\, Ontario\, N7G 1T5\, Canada
END:VEVENT
END:VCALENDAR