BEGIN:VCALENDAR
VERSION:2.0
PRODID:-//Among Brenda&#039;s Quilts &amp; Bags - ECPv5.14.2.1//NONSGML v1.0//EN
CALSCALE:GREGORIAN
METHOD:PUBLISH
X-WR-CALNAME:Among Brenda&#039;s Quilts &amp; Bags
X-ORIGINAL-URL:https://amongbrendasquilts.com
X-WR-CALDESC:Events for Among Brenda&#039;s Quilts &amp; Bags
REFRESH-INTERVAL;VALUE=DURATION:PT1H
X-Robots-Tag:noindex
X-PUBLISHED-TTL:PT1H
BEGIN:VTIMEZONE
TZID:America/Toronto
BEGIN:DAYLIGHT
TZOFFSETFROM:-0500
TZOFFSETTO:-0400
TZNAME:EDT
DTSTART:20220313T070000
END:DAYLIGHT
BEGIN:STANDARD
TZOFFSETFROM:-0400
TZOFFSETTO:-0500
TZNAME:EST
DTSTART:20221106T060000
END:STANDARD
END:VTIMEZONE
BEGIN:VEVENT
DTSTART;TZID=America/Toronto:20220625T100000
DTEND;TZID=America/Toronto:20220625T130000
DTSTAMP:20220503T115446
CREATED:20220426T163805Z
LAST-MODIFIED:20220427T202231Z
UID:16100-1656151200-1656162000@amongbrendasquilts.com
SUMMARY:Class\, Beginner's Quilting Square Dance Quilt with Kelley Richardson (2 of 3)
DESCRIPTION:3 sessions – Saturdays\, June 11\, 25 and July 9. \n10am – 1 pm \n$100 (includes Start Quilting Book by Alex Anderson upon registration) \nMake the Square Dance Quilt and learn all the basics of quilt making.  Kelley will guide you through learning to plan\, cut and piece your colorful quilt top.   Measures 40 1/2″W x 46 1/2″L \nTools required: \n\nRotary cutter\nRotary mat (some available in classroom)\nRotary Ruler (6 1/2″ x 24″ and 6 1/2″ square)\nScissors\, Pins\, Thread to match\, Seam Ripper\nSewing Machine in good working order\nFabric should be picked out prior to class\nMarking tools\n\nPlease refrain from wearing perfumed products during class.
URL:https://amongbrendasquilts.com/event/class-beginners-quilting-square-dance-quilt-with-kelley-richardson-2-of-3/
LOCATION:ABQ Sewing Studio\, 15 Centre Street West\, Strathroy\, Ontario\, N7G 1T5\, Canada
END:VEVENT
BEGIN:VEVENT
DTSTART;TZID=America/Toronto:20220625T140000
DTEND;TZID=America/Toronto:20220625T170000
DTSTAMP:20220503T115446
CREATED:20220428T220728Z
LAST-MODIFIED:20220501T153843Z
UID:16121-1656165600-1656176400@amongbrendasquilts.com
SUMMARY:Class\, Quilt-As-You-Go Reversible Table Runner with Kelley Richardson
DESCRIPTION:June 25\, 2pm – 5pm \n$50 \nRegistration: Follow the link (under Details below) to purchase this class online OR download the registration form to purchase via phone or in person. \nLocation:  ABQ Sewing Studio\, 15 Centre Street W.\, Strathroy\, Ontario \nSupplies are available at the ABQ Sewing Studio \nQuilt-as-you-go Reversible Table Runner \nThis reversible technique can be used to make everything from a runner to a king sized quilt.  It’s beginner friendly and the best part is it’s  completely quilted when done.  Join Kelley and she’ll show you how.  Measures 14 1/4″ x 28 1/4″. \nPlease bring: \n\nsewing machine in good working order\nstandard sewing kit (seam ripper\, pins etc)\nscissors\nnew needle in your machine size 80/12\ninvisible monofilament thread (Superior Brand) or regular thread\nthreads to match\nmarking pencil or marker\n\nPlease refrain from wearing perfumed products in class.
URL:https://amongbrendasquilts.com/event/class-quilt-as-you-go-reversible-table-runner-with-kelley-richardson/
LOCATION:ABQ Sewing Studio\, 15 Centre Street West\, Strathroy\, Ontario\, N7G 1T5\, Canada
END:VEVENT
END:VCALENDAR