BEGIN:VCALENDAR
VERSION:2.0
PRODID:-//Among Brenda&#039;s Quilts &amp; Bags - ECPv5.14.2.1//NONSGML v1.0//EN
CALSCALE:GREGORIAN
METHOD:PUBLISH
X-WR-CALNAME:Among Brenda&#039;s Quilts &amp; Bags
X-ORIGINAL-URL:https://amongbrendasquilts.com
X-WR-CALDESC:Events for Among Brenda&#039;s Quilts &amp; Bags
REFRESH-INTERVAL;VALUE=DURATION:PT1H
X-Robots-Tag:noindex
X-PUBLISHED-TTL:PT1H
BEGIN:VTIMEZONE
TZID:America/Toronto
BEGIN:DAYLIGHT
TZOFFSETFROM:-0500
TZOFFSETTO:-0400
TZNAME:EDT
DTSTART:20220313T070000
END:DAYLIGHT
BEGIN:STANDARD
TZOFFSETFROM:-0400
TZOFFSETTO:-0500
TZNAME:EST
DTSTART:20221106T060000
END:STANDARD
END:VTIMEZONE
BEGIN:VEVENT
DTSTART;TZID=America/Toronto:20220618T100000
DTEND;TZID=America/Toronto:20220618T160000
DTSTAMP:20220503T115445
CREATED:20220427T175031Z
LAST-MODIFIED:20220501T153137Z
UID:16117-1655546400-1655568000@amongbrendasquilts.com
SUMMARY:Class\, Elephant Abstractions with Kelley Richardson (1 of 2)
DESCRIPTION:Two sessions\, June 18 and July 9\, 10am – 4pm \n$120 (pattern and supplies extra) \nRegistration: Follow the link (under Details below) to purchase this class online OR download the registration form to purchase via phone or in person. \nKit cost:  pending \nLocation:  ABQ Sewing Studio\, 15 Centre St. W.\, Strathroy\, Ontario \nThis foundation paper pieced quilt is made with one striking large-scale block. Learn the beauty and accuracy  of paper piecing to create this large-scale Elephant Block (finished size before borders is 54″ x 60″) I really love the look of this one it was fun to do and so rewarding. There are two classes about one month apart giving you a chance to work on the quilt over time.  Quilt measures 54″W x 60″L \nPlease refrain from wearing perfumed products in class.
URL:https://amongbrendasquilts.com/event/class-elephant-abstractions-with-kelley-richardson/
LOCATION:ABQ Sewing Studio\, 15 Centre Street West\, Strathroy\, Ontario\, N7G 1T5\, Canada
END:VEVENT
END:VCALENDAR