BEGIN:VCALENDAR
VERSION:2.0
PRODID:-//Among Brenda&#039;s Quilts &amp; Bags - ECPv5.14.2.1//NONSGML v1.0//EN
CALSCALE:GREGORIAN
METHOD:PUBLISH
X-WR-CALNAME:Among Brenda&#039;s Quilts &amp; Bags
X-ORIGINAL-URL:https://amongbrendasquilts.com
X-WR-CALDESC:Events for Among Brenda&#039;s Quilts &amp; Bags
REFRESH-INTERVAL;VALUE=DURATION:PT1H
X-Robots-Tag:noindex
X-PUBLISHED-TTL:PT1H
BEGIN:VTIMEZONE
TZID:America/Toronto
BEGIN:DAYLIGHT
TZOFFSETFROM:-0500
TZOFFSETTO:-0400
TZNAME:EDT
DTSTART:20220313T070000
END:DAYLIGHT
BEGIN:STANDARD
TZOFFSETFROM:-0400
TZOFFSETTO:-0500
TZNAME:EST
DTSTART:20221106T060000
END:STANDARD
END:VTIMEZONE
BEGIN:VEVENT
DTSTART;TZID=America/Toronto:20220617T100000
DTEND;TZID=America/Toronto:20220617T130000
DTSTAMP:20220503T115518
CREATED:20220428T185304Z
LAST-MODIFIED:20220501T152919Z
UID:16132-1655460000-1655470800@amongbrendasquilts.com
SUMMARY:Class\, Willow Dress/Tank Top with Irene Mischkinis (1 of 2)
DESCRIPTION:Friday\, June 17\, 10am – 1pm \n$80 \nRegistration: Follow the link (under Details below) to purchase this class online OR download the registration form to purchase via phone or in person. \nLocation:  ABQ Sewing Studio\, 15 Centre Street W.\, Strathroy\, Ontario \nSupplies available at the ABQ Sewing Studio \nWillow Tank Dress  \nA versatile staple for the summer.  Fitted at the shoulders and falling to a relaxed fit below the bust.  It can be made into a dress or a tank top.  You will learn about darts\, hemming and applying bias facings. \nFor the class you will need: \n\n            Grainline Studio Willow Tank & Dress pattern\n            Fabric as per pattern\n            All-purpose thread to match your fabric\n            Sewing machine in good working order\n            Sewing kit**\n\n**Sewing kit \n\nGood quality pins (longer ones with glass heads are the easiest to handle) in a container that allows for easy access or in a pincushion\nSharp cutting shears\nSmall scissors or snips for thread\nMeasuring tape\nSewing gauge or small ruler\nHand-sewing needles\nMarking pencils or chalk that will work with the fabric you are using for your class project\nSeam ripper\n\n 
URL:https://amongbrendasquilts.com/event/class-willow-dress-tank-top-with-irene-mischkinis-1-of-2/
LOCATION:ABQ Sewing Studio\, 15 Centre Street West\, Strathroy\, Ontario\, N7G 1T5\, Canada
END:VEVENT
BEGIN:VEVENT
DTSTART;TZID=America/Toronto:20220617T140000
DTEND;TZID=America/Toronto:20220617T170000
DTSTAMP:20220503T115518
CREATED:20220425T211035Z
LAST-MODIFIED:20220501T153024Z
UID:16063-1655474400-1655485200@amongbrendasquilts.com
SUMMARY:Class\, La Luna Bag with Brenda Miller\, Class 1 of 3
DESCRIPTION:Friday afternoons:  June 17\, 24th\, July 8th. \n2pm – 5pm \n$80 \nRegistration: Follow the link (under Details below) to purchase this class online OR download the registration form to purchase via phone or in person. \nA brand new bag pattern and a very convenient storage system for gals on the go. \n\nremovable shoulder strap\nzippered top\nsecure back pocket and cell phone pocket\noptional zippered or slip pocket inside\nfront angled pockets\nsuitable for intermediate level quilters or sewists \n\nMeasures 11 1/4″H x 15″W x 3 1/2″D \nPattern (ABQ-206)\, zippers\, stabilizers\, interfacing and fabric is available for purchase at the ABQ Sewing Studio prior to class or online at shop.amongbrendasquilts.com   \nNote to Students:  All fabric\, stabilizers and interfacing must be cut prior to the first class.  Remember to label each cut piece with the name of the piece (not the size).  Be sure to purchase the stabilizers and interfacings given on the pattern cover for excellent results.  This project is made with quilting cotton.  Heavier fabrics will be too thick for good results.
URL:https://amongbrendasquilts.com/event/class-la-luna-bag-with-brenda-miller-class-1-of-3/
LOCATION:ABQ Sewing Studio\, 15 Centre Street West\, Strathroy\, Ontario\, N7G 1T5\, Canada
END:VEVENT
END:VCALENDAR