BEGIN:VCALENDAR
VERSION:2.0
PRODID:-//Among Brenda&#039;s Quilts &amp; Bags - ECPv5.14.2.1//NONSGML v1.0//EN
CALSCALE:GREGORIAN
METHOD:PUBLISH
X-WR-CALNAME:Among Brenda&#039;s Quilts &amp; Bags
X-ORIGINAL-URL:https://amongbrendasquilts.com
X-WR-CALDESC:Events for Among Brenda&#039;s Quilts &amp; Bags
REFRESH-INTERVAL;VALUE=DURATION:PT1H
X-Robots-Tag:noindex
X-PUBLISHED-TTL:PT1H
BEGIN:VTIMEZONE
TZID:America/Toronto
BEGIN:DAYLIGHT
TZOFFSETFROM:-0500
TZOFFSETTO:-0400
TZNAME:EDT
DTSTART:20220313T070000
END:DAYLIGHT
BEGIN:STANDARD
TZOFFSETFROM:-0400
TZOFFSETTO:-0500
TZNAME:EST
DTSTART:20221106T060000
END:STANDARD
END:VTIMEZONE
BEGIN:VEVENT
DTSTART;TZID=America/Toronto:20220616T100000
DTEND;TZID=America/Toronto:20220616T170000
DTSTAMP:20220503T115452
CREATED:20220428T183728Z
LAST-MODIFIED:20220501T152748Z
UID:16131-1655373600-1655398800@amongbrendasquilts.com
SUMMARY:Class\, P.J. Top or Blouse with Irene Mischkinis
DESCRIPTION:  \n \nThursday\, June 16\, 10am – 5pm \n$80.00 \nLocation:  ABQ Sewing Studio\, 15 Centre Street W.\, Strathroy\, Ontario \nRegistration: Follow the link (under Details below) to purchase this class online OR download the registration form to purchase via phone or in person. \nSupplies available at the ABQ Sewing Studio \nP.J. Top \nLearn a little bit more about patterns and sewing and make a top to match your P.J. pants.  Or this pattern could also work as a loose-fitting shirt\, if that’s your choice. \nFor the class you will need: \n\n            Pattern – Burda 2691 (adults) or Burda 9747 (children)\n            Fabric as per pattern\n            All-purpose sewing thread to match your fabric\n            Buttons as per pattern\n            Sewing machine in good working order\n            Sewing kit**\n\n**Sewing kit \n\nGood quality pins (longer ones with glass heads are the easiest to handle) in a container that allows for easy access or in a pincushion\nSharp cutting shears\nSmall scissors or snips for thread\nMeasuring tape\nSewing gauge or small ruler\nHand-sewing needles\nMarking pencils or chalk that will work with the fabric you are using for your class project\nSeam ripper
URL:https://amongbrendasquilts.com/event/class-p-j-top-or-blouse-with-irene-mischkinis/
LOCATION:ABQ Sewing Studio\, 15 Centre Street West\, Strathroy\, Ontario\, N7G 1T5\, Canada
END:VEVENT
END:VCALENDAR