BEGIN:VCALENDAR
VERSION:2.0
PRODID:-//Among Brenda&#039;s Quilts &amp; Bags - ECPv5.14.2.1//NONSGML v1.0//EN
CALSCALE:GREGORIAN
METHOD:PUBLISH
X-WR-CALNAME:Among Brenda&#039;s Quilts &amp; Bags
X-ORIGINAL-URL:https://amongbrendasquilts.com
X-WR-CALDESC:Events for Among Brenda&#039;s Quilts &amp; Bags
REFRESH-INTERVAL;VALUE=DURATION:PT1H
X-Robots-Tag:noindex
X-PUBLISHED-TTL:PT1H
BEGIN:VTIMEZONE
TZID:America/Toronto
BEGIN:DAYLIGHT
TZOFFSETFROM:-0500
TZOFFSETTO:-0400
TZNAME:EDT
DTSTART:20220313T070000
END:DAYLIGHT
BEGIN:STANDARD
TZOFFSETFROM:-0400
TZOFFSETTO:-0500
TZNAME:EST
DTSTART:20221106T060000
END:STANDARD
END:VTIMEZONE
BEGIN:VEVENT
DTSTART;TZID=America/Toronto:20220610T100000
DTEND;TZID=America/Toronto:20220610T130000
DTSTAMP:20220503T115530
CREATED:20220428T180641Z
LAST-MODIFIED:20220501T152249Z
UID:16162-1654855200-1654866000@amongbrendasquilts.com
SUMMARY:Class\, Sophia Swing Coat with Irene Mischkinis (2 of 2)
DESCRIPTION:Friday\, June 10\, 10am – 1 pm \n$80.00 \nLocation:  ABQ Sewing Studio\, 15 Centre Street W.\, Strathroy\, Ontario \nSupplies available at the ABQ Sewing Studio \nSophia Swing Coat by Amy Barickman \nJoin Irene to make this unlined swing coat featuring raglan sleeves and back yoke.  This sophisticated style has inseam pockets and two sleeve length options.  Make it with denim\, linen or wool. \nPattern and supplies not included. \n\n            Fabric as per pattern\n            All-purpose sewing thread to match your fabric\n            Buttons as per pattern\n            Sewing machine in good working order\n            Sewing kit**\n\n**Sewing kit \n\nGood quality pins (longer ones with glass heads are the easiest to handle) in a container that allows for easy access or in a pincushion\nSharp cutting shears\nSmall scissors or snips for thread\nMeasuring tape\nSewing gauge or small ruler\nHand-sewing needles\nMarking pencils or chalk that will work with the fabric you are using for your class project\nSeam ripper
URL:https://amongbrendasquilts.com/event/class-sophia-swing-coat-with-irene-mischkinis-2-of-2/
LOCATION:ABQ Sewing Studio\, 15 Centre Street West\, Strathroy\, Ontario\, N7G 1T5\, Canada
END:VEVENT
BEGIN:VEVENT
DTSTART;TZID=America/Toronto:20220610T140000
DTEND;TZID=America/Toronto:20220610T170000
DTSTAMP:20220503T115530
CREATED:20220425T211924Z
LAST-MODIFIED:20220426T215049Z
UID:16062-1654869600-1654880400@amongbrendasquilts.com
SUMMARY:Class\, Daytripper Backpack with Brenda Miller\, Class 3 of 3
DESCRIPTION:Friday Afternoons:  May 27\, June 3 and 10th \n2pm – 5pm \n$80 \nWith an assortment of handy pocket for your devices\, phone\, pens\, papers\, etc.  Loads of room inside for even your bulky items.  Padded Tech Pocket holds up to an 11″H x 10 1/2″W device. This size suits all ages.  Suitable for intermediate level quilters or sewists.  You’ll learn lots of techniques in this class. \nMeasures 13 1/2″H x 12 1/2″W x 3 1/2″D \nPattern (ABQ-189)\, zippers\, stabilizers\, interfacing and fabric is available for purchase at the ABQ Sewing Studio prior to class or online at shop.amongbrendasquilts.com \nNote to Students:  All fabric\, stabilizers and interfacing must be cut prior to the first class.  Remember to label each cut piece with the name of the piece (not the size).  Be sure to purchase the stabilizers and interfacings given on the pattern cover for excellent results.  This project is made with quilting cotton.  Heavier fabrics will be too thick for good results.
URL:https://amongbrendasquilts.com/event/class-daytripper-backpack-with-brenda-miller-class-3-of-3/
LOCATION:ABQ Sewing Studio\, 15 Centre Street West\, Strathroy\, Ontario\, N7G 1T5\, Canada
END:VEVENT
END:VCALENDAR