BEGIN:VCALENDAR
VERSION:2.0
PRODID:-//Among Brenda&#039;s Quilts &amp; Bags - ECPv5.14.2.1//NONSGML v1.0//EN
CALSCALE:GREGORIAN
METHOD:PUBLISH
X-WR-CALNAME:Among Brenda&#039;s Quilts &amp; Bags
X-ORIGINAL-URL:https://amongbrendasquilts.com
X-WR-CALDESC:Events for Among Brenda&#039;s Quilts &amp; Bags
REFRESH-INTERVAL;VALUE=DURATION:PT1H
X-Robots-Tag:noindex
X-PUBLISHED-TTL:PT1H
BEGIN:VTIMEZONE
TZID:America/Toronto
BEGIN:DAYLIGHT
TZOFFSETFROM:-0500
TZOFFSETTO:-0400
TZNAME:EDT
DTSTART:20220313T070000
END:DAYLIGHT
BEGIN:STANDARD
TZOFFSETFROM:-0400
TZOFFSETTO:-0500
TZNAME:EST
DTSTART:20221106T060000
END:STANDARD
END:VTIMEZONE
BEGIN:VEVENT
DTSTART;TZID=America/Toronto:20220604T100000
DTEND;TZID=America/Toronto:20220604T130000
DTSTAMP:20220503T110246
CREATED:20220426T152357Z
LAST-MODIFIED:20220501T151549Z
UID:16082-1654336800-1654347600@amongbrendasquilts.com
SUMMARY:Class\, Introduction to Paper Piecing with Kelley Richardson
DESCRIPTION:Saturday\, June 4 \, 10am – 1pm \n$50.00 \nLocation:  ABQ Sewing Studio\, 15 Centre St. W.\, Strathroy\, Ontario \nRegistration: Follow the link (under Details below) to purchase this class online OR download the registration form to purchase via phone or in person. \nLearn how to Paper Piece using the Pears Helene Pattern.  You’ll make one pear and will have the ability to continue with the pattern after class to make a runner\, placemats or a wall hanging. \nFor the class you will need: \n\nA sewing machine in good working order\nPears Helene pattern is included\nRotary cutting tools\nAdd-A-Quarter Ruler\nThread\, pins a new machine needle 80/12 size\, scissors\, seam ripper\n\nDue to allergies please refrain from wearing perfume on the class day. \nMinimum number of students to run class:  4
URL:https://amongbrendasquilts.com/event/class-introduction-to-paper-piecing-with-kelley-richardson/
LOCATION:ABQ Sewing Studio\, 15 Centre Street West\, Strathroy\, Ontario\, N7G 1T5\, Canada
END:VEVENT
BEGIN:VEVENT
DTSTART;TZID=America/Toronto:20220604T140000
DTEND;TZID=America/Toronto:20220604T170000
DTSTAMP:20220503T110246
CREATED:20220426T155212Z
LAST-MODIFIED:20220501T151805Z
UID:16088-1654351200-1654362000@amongbrendasquilts.com
SUMMARY:Class\, Quilting with Rulers with Kelley Richardson
DESCRIPTION:Saturday\, June 4\, 2pm – 5pm \n$50.00 \nLocation:  ABQ Sewing Studio\, 15 Centre St. West\, Strathroy\, Ontario \nRegistration: Follow the link (under Details below) to purchase this class online OR download the registration form to purchase via phone or in person. \nFree motion quilting with rulers is something long-arm quilters have been doing for years and now you can use the same techniques and get the same beautiful consistent results on your domestic sewing machine!  If free motion quilting makes you nervous or you want to expand your current skills then this class if for you. \nPlease bring the following supplies with you to class \n\nSampler Ruler Set by Westalee (we have some in-stock)\nRuler Foot specific to your machine\nPractice fabric 2 x 20” squares + batting\nfabric of your choice (solid or tone on tone) cut into 2 x 20 inch squares + batting\n1/4m fabric for binding\nBatting for above (approx. 1m x 1m cotton batting)\nSewing machine in good working order\nscissors\nThread to match fabric or contrast to fabric for quilting\nStandard sewing kit including thread\, seam ripper\, pins etc\nExtension table for your machine\nSew Slip or Supreme Glider sheet\n\nBefore class please have your practice quilt sandwich and your sampler sandwich basted…if you do not get this done then also bring a can of 505 basting spray to class. \nPlease refrain from wearing perfume to class due to allergies \n  \n 
URL:https://amongbrendasquilts.com/event/class-quilting-with-rulers-with-kelley-richardson/
LOCATION:ABQ Sewing Studio\, 15 Centre Street West\, Strathroy\, Ontario\, N7G 1T5\, Canada
END:VEVENT
END:VCALENDAR