BEGIN:VCALENDAR
VERSION:2.0
PRODID:-//Among Brenda&#039;s Quilts &amp; Bags - ECPv5.14.2.1//NONSGML v1.0//EN
CALSCALE:GREGORIAN
METHOD:PUBLISH
X-WR-CALNAME:Among Brenda&#039;s Quilts &amp; Bags
X-ORIGINAL-URL:https://amongbrendasquilts.com
X-WR-CALDESC:Events for Among Brenda&#039;s Quilts &amp; Bags
REFRESH-INTERVAL;VALUE=DURATION:PT1H
X-Robots-Tag:noindex
X-PUBLISHED-TTL:PT1H
BEGIN:VTIMEZONE
TZID:America/Toronto
BEGIN:DAYLIGHT
TZOFFSETFROM:-0500
TZOFFSETTO:-0400
TZNAME:EDT
DTSTART:20220313T070000
END:DAYLIGHT
BEGIN:STANDARD
TZOFFSETFROM:-0400
TZOFFSETTO:-0500
TZNAME:EST
DTSTART:20221106T060000
END:STANDARD
END:VTIMEZONE
BEGIN:VEVENT
DTSTART;TZID=America/Toronto:20220602T100000
DTEND;TZID=America/Toronto:20220602T130000
DTSTAMP:20220503T110214
CREATED:20220428T140640Z
LAST-MODIFIED:20220501T151003Z
UID:16125-1654164000-1654174800@amongbrendasquilts.com
SUMMARY:Class\, Monthly Open Sew Morning with Irene Mischkinis - June 2022
DESCRIPTION:Open sew – A Monthly Class (held the first Thursday of each month) \nRegistration: Follow the link (under Details below) to purchase this class online OR download the registration form to purchase via phone or in person. \nNeed a little assistance to move that sewing project along?  Work on anything from your quilt to your quilted jacket!  Join this group to get some help and expert advice to gain the confidence to move your project along or to finish it.  Bring yourself in along with anything you are stuck on or anything you want to start or just come for the fun of sewing with others!  Irene is here for you during this open sew session held the first Thursday of each month.  Snacks provided. \nFor the class you will need: \n\n      All the bits and pieces that belong to your project\n      Sewing kit**\n\nSewing machine in good working order with appropriate needles for your fabric. \n**Sewing kit \n\nGood quality pins (longer ones with glass heads are the easiest to handle) in a container that allows for easy access or in a pincushion\nSharp cutting shears\nSmall scissors or snips for thread\nMeasuring tape\nSewing gauge or small ruler\nHand-sewing needles\nMarking pencils or chalk that will work with the fabric you are using for your class project\nSeam ripper
URL:https://amongbrendasquilts.com/event/class-monthly-open-sew-morning-with-irene-mischkinis-june-2022/
LOCATION:ABQ Sewing Studio\, 15 Centre Street West\, Strathroy\, Ontario\, N7G 1T5\, Canada
END:VEVENT
BEGIN:VEVENT
DTSTART;TZID=America/Toronto:20220602T140000
DTEND;TZID=America/Toronto:20220602T170000
DTSTAMP:20220503T110214
CREATED:20220428T174028Z
LAST-MODIFIED:20220501T151128Z
UID:16127-1654178400-1654189200@amongbrendasquilts.com
SUMMARY:Class\, 8 Gore Skirt Pattern Drafting with Irene Mischkinis
DESCRIPTION:Thursday\, June 2\, 2pm – 5pm \n$50 \nLocation:  ABQ Sewing Studio\, 15 Centre Street W. Strathroy\, Ontario \nRegistration: Follow the link (under Details below) to purchase this class online OR download the registration form to purchase via phone or in person. \nSupplies are available at the ABQ Sewing Studio. \nEight Gore Skirt \nThe fit will be perfect because you’ll draw the pattern from your own measurements.  It’s an easy to wear elastic waist knit skirt in any length that suits your fancy – just in time for easy summer living.  (And it really does suit any figure.) \nFor the class you will need: \n\nA roll of thin vellum paper to draft your pattern changes\nA long ruler – metre stick or long quilting ruler\nFabric – two lengths\, i.e. whatever length you want your skirt to be X2 + a few inches more\nElastic in whatever width you will find comfortable\nThread to match your fabric\nStretch needle 75/11 for your sewing machine\nSewing kit**\nSewing machine in good working order\n\n  \n*Fabric should be pretreated (washed and dried in the manner that you will be treating the finished garment) \nN.B. The skirt can be stitched up entirely on the sewing machine.  We ask that you bring your sewing machine\, as well as your serger (if you have one). \n**Sewing kit \n\nGood quality pins (longer ones with glass heads are the easiest to handle) in a container that allows for easy access or in a pincushion\nSharp cutting shears\nSmall scissors or snips for thread\nMeasuring tape\nSewing gauge or small ruler\nHand-sewing needles\nMarking pencils or chalk that will work with the fabric you are using for your class project\nSeam ripper
URL:https://amongbrendasquilts.com/event/class-8-gore-skirt-pattern-drafting-with-irene-mischkinis/
LOCATION:ABQ Sewing Studio\, 15 Centre Street West\, Strathroy\, Ontario\, N7G 1T5\, Canada
END:VEVENT
END:VCALENDAR